BEGIN:VCALENDAR
VERSION:2.0
PRODID:-//Milan Club Romandie - ECPv6.15.20//NONSGML v1.0//EN
CALSCALE:GREGORIAN
METHOD:PUBLISH
X-WR-CALNAME:Milan Club Romandie
X-ORIGINAL-URL:https://milanclubromandie.ch
X-WR-CALDESC:Évènements pour Milan Club Romandie
REFRESH-INTERVAL;VALUE=DURATION:PT1H
X-Robots-Tag:noindex
X-PUBLISHED-TTL:PT1H
BEGIN:VTIMEZONE
TZID:UTC
BEGIN:STANDARD
TZOFFSETFROM:+0000
TZOFFSETTO:+0000
TZNAME:UTC
DTSTART:20240101T000000
END:STANDARD
END:VTIMEZONE
BEGIN:VEVENT
DTSTART;VALUE=DATE:20251227
DTEND;VALUE=DATE:20251228
DTSTAMP:20260422T132918
CREATED:20240814T150836Z
LAST-MODIFIED:20240814T150836Z
UID:10000497-1766793600-1766879999@milanclubromandie.ch
SUMMARY:Anniversaire Billal (Billy) Janah
DESCRIPTION:Rejoignez-nous pour une expérience footballistique inoubliable au légendaire stade San Siro ! Venez encourager votre équipe\,  l’AC Milan\, avec d’autres fans le samedi 19 octobre 2024. Profitez d’un transport confortable en bus et d’une excellente compagnie. Réservez votre place avant le 7 octobre pour garantir votre siège ! LES PLACES SONT LIMITÉES. \nLe transport se fait en bus le week-end des vacances scolaires. Le départ se fera à 7h du matin en raison des temps de pause des chauffeurs et du trajet pour le stade de San Siro. \nLe prix comprend le transport en bus et le billet du stade. 								\n				\n										\n						\n									Demande d'inscriptions\n					\n					\n								\n				\n									ou    +41 78 683 66 86  
URL:https://milanclubromandie.ch/evenement/anniversaire-billal-billy-janah-2/2025-12-27/
LOCATION:Milan
CATEGORIES:Anniversaire membre
ATTACH;FMTTYPE=image/jpeg:https://milanclubromandie.ch/wp-content/uploads/2024/07/birthday.jpg
END:VEVENT
END:VCALENDAR